BEGIN:VCALENDAR
VERSION:2.0
PRODID:-//AVICENNA INTERNATIONAL ACADEMY - ECPv4.5.13//NONSGML v1.0//EN
CALSCALE:GREGORIAN
METHOD:PUBLISH
X-WR-CALNAME:AVICENNA INTERNATIONAL ACADEMY
X-ORIGINAL-URL:http://www.avicenna.hu
X-WR-CALDESC:Events for AVICENNA INTERNATIONAL ACADEMY
BEGIN:VEVENT
DTSTART;TZID=UTC+0:
DTEND;TZID=UTC+0:
DTSTAMP:20171104T110849
CREATED:20160126T024624Z
LAST-MODIFIED:20170926T054520Z
UID:416-۱۴۵۴۴۷۵۶۰۰-۱۴۵۴۶۵۳۸۰۰@www.avicenna.hu
SUMMARY:بازدید علمی فرهنگی از مجموعه تاریخی سعدآباد
DESCRIPTION:بازدید علمی فرهنگی از مجموعه تاریخی سعدآباد \n
URL:http://www.avicenna.hu/event/poetry-reading-with-music-by-taylor-swift/
LOCATION:3222 S 169th St\, Seattle\, WA\, United States
ATTACH;FMTTYPE=image/jpeg:http://www.avicenna.hu/wp-content/uploads/2016/01/photo_۲۰۱۶-۱۱-۱۳_۱۲-۱۶-۴۷.jpg
END:VEVENT
BEGIN:VEVENT
DTSTART;TZID=UTC+0:
DTEND;TZID=UTC+0:
DTSTAMP:20171104T110849
CREATED:20160126T095110Z
LAST-MODIFIED:20170926T053508Z
UID:434-۱۴۵۵۵۹۸۸۰۰-۱۴۵۵۶۰۴۲۰۰@www.avicenna.hu
SUMMARY:آموزش های اولیه اتش نشانی و نحوه استفاده از کپسول آتش نشانی
DESCRIPTION:برگزاری دوره آموزشی نحوه مقابله هنگام بروز آتش و استفاده از کپسول آتش نشانی در مجتمع آموزشی بین المللی ابن سینا \n
URL:http://www.avicenna.hu/event/introduce-academia-theme-wordpress/
LOCATION:3222 S 169th St\, Seattle\, WA\, United States
ATTACH;FMTTYPE=image/jpeg:http://www.avicenna.hu/wp-content/uploads/2016/01/photo_۲۰۱۷-۰۳-۰۸_۱۷-۴۵-۰۳.jpg
END:VEVENT
BEGIN:VEVENT
DTSTART;TZID=UTC+0:
DTEND;TZID=UTC+0:
DTSTAMP:20171104T110849
CREATED:20160123T105427Z
LAST-MODIFIED:20170926T060109Z
UID:401-۱۴۵۵۶۸۳۴۰۰-۱۴۵۹۴۲۷۴۰۰@www.avicenna.hu
SUMMARY:اولین نمایشگاه دستاوردهای علمی و آموزشی مدارس بین الملل
DESCRIPTION:حضور فعال مجتمع آموزشی بین المللی ابن سینا در اولین نمایشگاه دستاوردهای علمی و آموزشی مدارس بین الملل \n
URL:http://www.avicenna.hu/event/new-science-research-facility-in-ohio/
LOCATION:3222 S 169th St\, Seattle\, WA\, United States
ATTACH;FMTTYPE=image/jpeg:http://www.avicenna.hu/wp-content/uploads/2016/01/IMG_1628.jpg
END:VEVENT
BEGIN:VEVENT
DTSTART;TZID=UTC+0:
DTEND;TZID=UTC+0:
DTSTAMP:20171104T110849
CREATED:20160126T030305Z
LAST-MODIFIED:20170926T053811Z
UID:418-۱۴۵۵۷۷۱۶۰۰-۱۴۵۶۴۶۸۲۰۰@www.avicenna.hu
SUMMARY:روز سلامت دندان و دهان
DESCRIPTION:روز سلامت دندان و دهان با حضور متخصصن و پزشکان \n
URL:http://www.avicenna.hu/event/school-budget-relies-on-state-pension/
LOCATION:3222 S 169th St\, Seattle\, WA\, United States
ATTACH;FMTTYPE=image/jpeg:http://www.avicenna.hu/wp-content/uploads/2016/01/photo_۲۰۱۷-۰۲-۰۱_۱۰-۵۷-۱۱.jpg
END:VEVENT
BEGIN:VEVENT
DTSTART;TZID=UTC+0:
DTEND;TZID=UTC+0:
DTSTAMP:20171104T110849
CREATED:20160126T024217Z
LAST-MODIFIED:20170926T054122Z
UID:414-۱۴۵۶۶۳۹۲۰۰-۱۴۵۹۰۰۶۲۰۰@www.avicenna.hu
SUMMARY:بازدید پروفسور روزیوال رئیس سابق دانشگاه سملوایز مجارستان
DESCRIPTION:حضور پروفسور روزیوال رئیس سابق دانشگاه سملوایز مجارستان از مجتمع آموزشی بین المللی ابن سینا \n
URL:http://www.avicenna.hu/event/poetry-reading-with-music-by-john-doe/
LOCATION:3222 S 169th St\, Seattle\, WA\, United States
ATTACH;FMTTYPE=image/jpeg:http://www.avicenna.hu/wp-content/uploads/2016/01/photo_۲۰۱۶-۱۱-۲۳_۱۳-۱۷-۳۶.jpg
END:VEVENT
BEGIN:VEVENT
DTSTART;TZID=UTC+0:
DTEND;TZID=UTC+0:
DTSTAMP:20171104T110849
CREATED:20160128T042646Z
LAST-MODIFIED:20170926T053011Z
UID:880-۱۴۵۶۸۰۸۴۰۰-۱۴۵۷۱۵۹۴۰۰@www.avicenna.hu
SUMMARY:بازدید از موسسه ژئوفیزیک دانشگاه تهران
DESCRIPTION:بازدید علمی از مرکز زلزله نگار دانشگاه تهران \n
URL:http://www.avicenna.hu/event/designing-effective-slides/
LOCATION:3222 S 169th St\, Seattle\, WA\, United States
ATTACH;FMTTYPE=image/jpeg:http://www.avicenna.hu/wp-content/uploads/2016/01/photo_۲۰۱۷-۰۲-۰۲_۲۰-۱۷-۰۵.jpg
END:VEVENT
BEGIN:VEVENT
DTSTART;TZID=UTC+0:
DTEND;TZID=UTC+0:
DTSTAMP:20171104T110849
CREATED:20160128T042756Z
LAST-MODIFIED:20170112T131817Z
UID:881-۱۴۵۶۹۸۱۲۰۰-۱۴۵۷۶۷۷۸۰۰@www.avicenna.hu
SUMMARY:حل خلاق مسئله برای محققان
DESCRIPTION:لورم ایپسوم متن ساختگی با تولید سادگی نامفهوم از صنعت چاپ و با استفاده از طراحان گرافیک است. چاپگرها و متون بلکه روزنامه و مجله در ستون و سطرآنچنان که لازم است و برای شرایط فعلی تکنولوژی مورد نیاز و کاربردهای متنوع با هدف بهبود ابزارهای کاربردی می باشد. کتابهای زیادی در شصت و سه درصد گذشته، حال و آینده شناخت فراوان جامعه و متخصصان را می طلبد تا با نرم افزارها شناخت بیشتری را برای طراحان رایانه ای علی الخصوص طراحان خلاقی و فرهنگ پیشرو در زبان فارسی ایجاد کرد. در این صورت می توان امید داشت که تمام و دشواری موجود در ارائه راهکارها و شرایط سخت تایپ به پایان رسد وزمان مورد نیاز شامل حروفچینی دستاوردهای اصلی و جوابگوی سوالات پیوسته اهل دنیای موجود طراحی اساسا مورد استفاده قرار گیرد. \n
URL:http://www.avicenna.hu/event/creative-problem-solving-for-researchers/
LOCATION:3222 S 169th St\, Seattle\, WA\, United States
ATTACH;FMTTYPE=image/jpeg:http://www.avicenna.hu/wp-content/uploads/2013/06/course_04.jpg
END:VEVENT
BEGIN:VEVENT
DTSTART;TZID=UTC+0:
DTEND;TZID=UTC+0:
DTSTAMP:20171104T110849
CREATED:20160128T043014Z
LAST-MODIFIED:20170112T131818Z
UID:882-۱۴۵۸۸۷۸۴۰۰-۱۴۵۸۸۸۳۸۰۰@www.avicenna.hu
SUMMARY:آموزش آشپزی در یک هفته
DESCRIPTION:لورم ایپسوم متن ساختگی با تولید سادگی نامفهوم از صنعت چاپ و با استفاده از طراحان گرافیک است. چاپگرها و متون بلکه روزنامه و مجله در ستون و سطرآنچنان که لازم است و برای شرایط فعلی تکنولوژی مورد نیاز و کاربردهای متنوع با هدف بهبود ابزارهای کاربردی می باشد. کتابهای زیادی در شصت و سه درصد گذشته، حال و آینده شناخت فراوان جامعه و متخصصان را می طلبد تا با نرم افزارها شناخت بیشتری را برای طراحان رایانه ای علی الخصوص طراحان خلاقی و فرهنگ پیشرو در زبان فارسی ایجاد کرد. در این صورت می توان امید داشت که تمام و دشواری موجود در ارائه راهکارها و شرایط سخت تایپ به پایان رسد وزمان مورد نیاز شامل حروفچینی دستاوردهای اصلی و جوابگوی سوالات پیوسته اهل دنیای موجود طراحی اساسا مورد استفاده قرار گیرد. \n
URL:http://www.avicenna.hu/event/how-to-cook/
LOCATION:3222 S 169th St\, Seattle\, WA\, United States
ATTACH;FMTTYPE=image/jpeg:http://www.avicenna.hu/wp-content/uploads/2013/06/course_05.jpg
END:VEVENT
BEGIN:VEVENT
DTSTART;TZID=UTC+0:
DTEND;TZID=UTC+0:
DTSTAMP:20171104T110849
CREATED:20160128T042450Z
LAST-MODIFIED:20170926T052404Z
UID:879-۱۴۸۸۶۹۰۰۰۰-۱۴۸۹۲۱۳۸۰۰@www.avicenna.hu
SUMMARY:گرامی داشت روز درختکاری
DESCRIPTION:تاریخچه روز درختکاری\nروز درختکاری  ابتدا در سال ۱۸۷۲ و در ایالت نبراسکای آمریکا و در تاریخ ۱۰ آوریل (۲۱ فروردین)، توسط فردی به نام J.Sterling Morton برگزار شد و گفته می شود که در آن روز بیش از ۱ میلیون درخت کاشته شده است اما بعد از مدتی این تاریخ به آخرین جمعه ماه آوریل انتقال یافت. \n
URL:http://www.avicenna.hu/event/an-introduction-to-social-media-platforms/
LOCATION:3222 S 169th St\, Seattle\, WA\, United States
ATTACH;FMTTYPE=image/jpeg:http://www.avicenna.hu/wp-content/uploads/2016/01/photo_۲۰۱۷-۰۳-۱۳_۱۲-۱۴-۴۴.jpg
END:VEVENT
END:VCALENDAR